BEGIN:VCALENDAR
VERSION:2.0
PRODID:-//Laboratorio Social de Genero y Masculinidades - ECPv6.15.20//NONSGML v1.0//EN
CALSCALE:GREGORIAN
METHOD:PUBLISH
X-WR-CALNAME:Laboratorio Social de Genero y Masculinidades
X-ORIGINAL-URL:https://masculinidades.org
X-WR-CALDESC:Eventos para Laboratorio Social de Genero y Masculinidades
REFRESH-INTERVAL;VALUE=DURATION:PT1H
X-Robots-Tag:noindex
X-PUBLISHED-TTL:PT1H
BEGIN:VTIMEZONE
TZID:America/Guayaquil
BEGIN:STANDARD
TZOFFSETFROM:-0500
TZOFFSETTO:-0500
TZNAME:-05
DTSTART:20230101T000000
END:STANDARD
END:VTIMEZONE
BEGIN:VTIMEZONE
TZID:UTC
BEGIN:STANDARD
TZOFFSETFROM:+0000
TZOFFSETTO:+0000
TZNAME:UTC
DTSTART:20190101T000000
END:STANDARD
END:VTIMEZONE
BEGIN:VEVENT
DTSTART;TZID=America/Guayaquil:20240214T204725
DTEND;TZID=America/Guayaquil:20240214T204725
DTSTAMP:20260423T125605
CREATED:20240214T204725Z
LAST-MODIFIED:20240214T204725Z
UID:2101-1707943645-1707943645@masculinidades.org
SUMMARY:Seminario: Masculinidades en diálogo
DESCRIPTION:En el marco del 2do Encuentro de la Red ecuatoriana de Masculinidades\, se realizó un espacio de formación y reflexión colectiva sobre los principales debates críticos en materia de masculinidades\, género y Derechos Humanos como parte de las acciones para el fortalecimiento interno de la red. \n 
URL:https://masculinidades.org/event/seminario-masculinidades-en-dialogo/
ATTACH;FMTTYPE=image/jpeg:https://masculinidades.org/wp-content/uploads/2024/02/406501262_692891466161058_7437242353790674805_n.jpg
END:VEVENT
BEGIN:VEVENT
DTSTART;TZID=America/Guayaquil:20240214T202400
DTEND;TZID=America/Guayaquil:20240214T202400
DTSTAMP:20260423T125605
CREATED:20240214T202410Z
LAST-MODIFIED:20240214T202735Z
UID:2082-1707942240-1707942240@masculinidades.org
SUMMARY:Métele un gol al machismo: Proceso de sencibilización sobre masculinidades para erradicar la violencia de género en Pichincha
DESCRIPTION:La Prefectura de Pichincha mediante el Laboratorio de Género y Masculinidades\, realizaron un proceso de sencibilización con el objetivo de erradicar la violencia de género\, en el cual participaron hombres de la sociedad civil y funcionarios públicos. \nCon una duración de 6 meses y bajo la modalidad presencial\, la iniciativa propuso transformar patrones socioculturales que promueven la violencia para construir relaciones más justas y equitativas en el DMQ.
URL:https://masculinidades.org/event/metele-un-gol-al-machismo-proceso-de-sencibilizacion-sobre-masculinidades-para-erradicar-la-violencia-de-genero-en-pichincha/
ATTACH;FMTTYPE=image/jpeg:https://masculinidades.org/wp-content/uploads/2024/02/Dia-3-amanda.jpg
END:VEVENT
BEGIN:VEVENT
DTSTART;TZID=America/Guayaquil:20240214T200300
DTEND;TZID=America/Guayaquil:20240214T200300
DTSTAMP:20260423T125605
CREATED:20240214T200317Z
LAST-MODIFIED:20240214T200449Z
UID:2072-1707940980-1707940980@masculinidades.org
SUMMARY:Sensibilización en prevención de la violencia de género en el Municipio de Rumiñahui
DESCRIPTION:Entre los meses de julio y octubre de 2023\, el Consejo Cantonal de Protección de Derechos del cantón Rumiñahui COPRODER junto al Laboratorio Social de Género y Masculinidades ejecutó un proceso de sensibilización en prevención de la violencia de género y masculinidades transformadoras para funcionarios del Municipio de Rumiñahui. \nCon una duración de 3 meses y bajo la modalidad presencial\, el proceso abordó: \n\nConceptos básicos de género y violencia\nMasculinidades tradicionales y su impacto\nMasculinidades transformadoras y relaciones igualitarias\nHerramientas para la prevención de la violencia en el ámbito laboral\n\nEsta iniciativa se enmarca en el compromiso por la erradicación de la violencia de género en el cantón de Rumiñahui. Se espera que los conocimientos y herramientas adquiridos por los funcionarios se traduzcan en acciones para crear un entorno laboral libre de violencia y discriminación.
URL:https://masculinidades.org/event/sensibilizacion-en-prevencion-de-la-violencia-de-genero-en-el-municipio-de-ruminahui/
ATTACH;FMTTYPE=image/jpeg:https://masculinidades.org/wp-content/uploads/2024/02/1.jpg
END:VEVENT
BEGIN:VEVENT
DTSTART;TZID=America/Guayaquil:20240214T173600
DTEND;TZID=America/Guayaquil:20240214T173600
DTSTAMP:20260423T125605
CREATED:20240214T173634Z
LAST-MODIFIED:20240214T194413Z
UID:2053-1707932160-1707932160@masculinidades.org
SUMMARY:Voces Enjauladas: Teatro del oprimido para la transformación
DESCRIPTION:En septiembre de 2023\, los niños\, niñas y adolescentes del círculo de panas de Quitumbe participaron en un proyecto de creación y montaje teatral llamado «Voces Enjauladas». La iniciativa\, apoyada por Plan Internacional\, utilizó la metodología de Teatro del Oprimido. \nEste ejercicio de teatral no solamente permitió promover un espacio para la expresión artística\, sino también para la reflexión crítica y la construcción de alternativas frente a la violencia de género. \n«Voces Enjauladas» es un ejemplo del potencial del teatro como herramienta de transformación social. Los jóvenes de Quitumbe desarrollaron sus habilidades artísticas\, expresaron sus ideas y emociones.
URL:https://masculinidades.org/event/voces-enjauladas-teatro-para-la-transformacion-social-en-quitumbe/
ATTACH;FMTTYPE=image/jpeg:https://masculinidades.org/wp-content/uploads/2024/02/396846429_674031748047030_7410054681050603718_n-1.jpg
END:VEVENT
BEGIN:VEVENT
DTSTART;TZID=UTC:20201203T080000
DTEND;TZID=UTC:20201209T170000
DTSTAMP:20260423T125605
CREATED:20201203T173005Z
LAST-MODIFIED:20201205T041852Z
UID:1301-1606982400-1607533200@masculinidades.org
SUMMARY:"El trabajo en Masculinidades en Ecuador. Tejiendo una Red Nacional" Simposio Ubuntu MenEngage
DESCRIPTION:  \nEdison Porras y Leonardo García\, del Laboratorio Social de Género y Masculinidades\, participarán en el Simposio Ubuntu MenEngage Latinoamérica y el Caribe\, en la mesa: “Estado de las Masculinidades de las Redes en Latinoamérica y el Caribe: «El trabajo en Masculinidades en Ecuador. Tejiendo una Red Nacional». \nEl evento se llevará a cabo de forma virtual el 9 de diciembre de las 12:30 – 13:30 hs Ecuador/Colombia/Perú. El conversatorio es organizado por la Red MenEngage Latinoamérica y el Caribe y hace parte de la programación del Simposio Global Ubuntu MenEngage. \nEl propósito del espacio es compartir sobre el trabajo con hombres y masculinidades en Ecuador y las perspectivas organizativas alrededor del tema. En la mesa conversarán Marco Urbina del colectivo «Hombres construyendo alteridad»\, Falete Luke de Fundación Lunita Lunera y Edison Porras. La coordinación de la mesa la realizará Leonardo García. \nMás información en el programa y su página de Facebook
URL:https://masculinidades.org/event/simposio-ubuntu-menengage/
ATTACH;FMTTYPE=image/png:https://masculinidades.org/wp-content/uploads/2020/12/Captura-de-Pantalla-2020-12-04-a-las-18.10.37.png
END:VEVENT
BEGIN:VEVENT
DTSTART;TZID=UTC:20201203T080000
DTEND;TZID=UTC:20201203T170000
DTSTAMP:20260423T125605
CREATED:20201203T130027Z
LAST-MODIFIED:20201203T182116Z
UID:1304-1606982400-1607014800@masculinidades.org
SUMMARY:II Jornadas de Violencia de Género y Salud
DESCRIPTION:Leonardo García\, del Laboratorio Social de Género y Masculinidades\, fue invitado a participar de las II Jornadas Internacionales de violencia de Género y Salud\, donde será parte del panel «Masculinidades en el contexto de Covid19: ¿aceleración o retroceso?».  \nEl evento se llevará a cabo de forma virtual el martes 15 de diciembre de las 11:30h hasta las 12:45h. Las Jornadas son organizadas por la organización Mediterrània de España. \nhttps://www.youtube.com/watch?v=Td8W42k8Xlk&feature=youtu.be \n 
URL:https://masculinidades.org/event/ii-jornadas-de-violencia-de-genero-y-salud/
ATTACH;FMTTYPE=image/png:https://masculinidades.org/wp-content/uploads/2020/12/Captura-de-Pantalla-2020-12-03-a-las-07.18.48.png
END:VEVENT
END:VCALENDAR